View In:
ArcGIS JavaScript
ArcGIS Online Map Viewer
ArcGIS Earth
ArcMap
View Footprint In:
ArcGIS Online Map Viewer
Service Description: WW_Dams_and_Floodplain/WT_2D_Water_Surface_Elevation_Ext_DRAFT
Name: WW_Dams_and_Floodplain/WT_2D_Water_Surface_Elevation_Ext_DRAFT
Description:
Single Fused Map Cache: false
Extent:
XMin: 402837.85572171875
YMin: 253588.0472696807
XMax: 681916.7131288868
YMax: 573957.5564359587
Spatial Reference: 3071
(3071)
Initial Extent:
XMin: 402837.85572171875
YMin: 253588.0472696807
XMax: 681916.7131288868
YMax: 573957.5564359587
Spatial Reference: 3071
(3071)
Full Extent:
XMin: 402837.85572171875
YMin: 253588.0472696807
XMax: 681916.7131288868
YMax: 573957.5564359587
Spatial Reference: 3071
(3071)
Pixel Size X: 0.599849666
Pixel Size Y: 0.599849666
Band Count: 1
Pixel Type: F32
RasterFunction Infos: {"rasterFunctionInfos": [
{
"name": "None",
"description": "A No-Op Function.",
"help": ""
},
{
"name": "None",
"description": "A No-Op Function.",
"help": ""
}
]}
Mensuration Capabilities: None
Has Histograms: true
Has Colormap: false
Has Multi Dimensions : false
Rendering Rule:
Min Scale: 0
Max Scale: 0
Copyright Text:
Service Data Type: esriImageServiceDataTypeGeneric
Min Values: 720.5908203125
Max Values: 1386.201171875
Mean Values: 878.3487938190332
Standard Deviation Values: 120.89736326443914
Object ID Field: OBJECTID
Fields:
-
OBJECTID
(
type: esriFieldTypeOID, alias: OBJECTID
)
-
NAME
(
type: esriFieldTypeString, alias: NAME, length: 200
)
-
CATEGORY
(
type: esriFieldTypeInteger, alias: CATEGORY
)
-
SHAPE
(
type: esriFieldTypeGeometry, alias: SHAPE
)
Default Mosaic Method: Northwest
Allowed Mosaic Methods: NorthWest,Center,LockRaster,ByAttribute,Nadir,Viewpoint,Seamline,None
SortField:
SortValue: null
Mosaic Operator: First
Default Compression Quality: 75
Default Resampling Method: Bilinear
Max Record Count: 1000
Max Image Height: 4100
Max Image Width: 15000
Max Download Image Count: 20
Max Mosaic Image Count: 20
Allow Raster Function: true
Allow Copy: true
Allow Analysis: true
Allow Compute TiePoints: false
Supports Statistics: true
Supports Advanced Queries: true
Use StandardizedQueries: true
Raster Type Infos:
Name: Raster Dataset
Description: Supports all ArcGIS Raster Datasets
Help:
Has Raster Attribute Table: false
Edit Fields Info: null
Ownership Based AccessControl For Rasters: null
Child Resources:
Info
Histograms
Statistics
Key Properties
Legend
Raster Function Infos
Supported Operations:
Export Image
Query
Identify
Compute Histograms
Compute Statistics Histograms
Get Samples
Compute Class Statistics
Query Boundary
Compute Pixel Location
Compute Angles
Validate
Project