View In:
ArcGIS JavaScript
ArcGIS Online Map Viewer
ArcGIS Earth
Service Description: This data set contains natural color, leaf-on imagery with 1-meter pixel resolution, from the 2013 USDA National Agricultural Imagery Program (NAIP). Flights occurred in the Summer of 2013 for the entire State of Wisconsin. For metadata, see: http://dnr.wi.gov/maps/gis/documents/NAIP_2013_Metadata.pdf. Landsat Enhanced Thematic Mapper Plus (ETM+) imagery displays at map scales smaller than 1:760,000. The Landsat image resolution is 14.25 meters by 14.25 meters. Wisconsin DNR staff downloaded the Landsat mosaics in March 2010 from the USGS Global Visualization Viewer (GloVis) for use as a small-scale image backdrop for WDNR image services. WI DNR recognizes the USDA National Agricultural Imagery Program for making source data available. For more information, visit https://dnr.wi.gov/feedback/ and choose Geographic Information Systems Data as the subject.
Name: DW_Imagery/EN_Image_Basemap_2013_Leaf_On
Description: This data set contains natural color, leaf-on imagery with 1-meter pixel resolution, from the 2013 USDA National Agricultural Imagery Program (NAIP). Flights occurred in the Summer of 2013 for the entire State of Wisconsin. For metadata, see: http://dnr.wi.gov/maps/gis/documents/NAIP_2013_Metadata.pdf. Landsat Enhanced Thematic Mapper Plus (ETM+) imagery displays at map scales smaller than 1:760,000. The Landsat image resolution is 14.25 meters by 14.25 meters. Wisconsin DNR staff downloaded the Landsat mosaics in March 2010 from the USGS Global Visualization Viewer (GloVis) for use as a small-scale image backdrop for WDNR image services. WI DNR recognizes the USDA National Agricultural Imagery Program for making source data available. For more information, visit https://dnr.wi.gov/feedback/ and choose Geographic Information Systems Data as the subject.
Single Fused Map Cache: false
Extent:
XMin: 290528.59916568047
YMin: 218168.49880077672
XMax: 774976.9969764682
YMax: 739700.5944505519
Spatial Reference: 3071
(3071)
Initial Extent:
XMin: 290528.59916568047
YMin: 218168.49880077672
XMax: 774976.9969764682
YMax: 739700.5944505519
Spatial Reference: 3071
(3071)
Full Extent:
XMin: 290528.59916568047
YMin: 218168.49880077672
XMax: 774976.9969764682
YMax: 739700.5944505519
Spatial Reference: 3071
(3071)
Pixel Size X: 0.9992912379139668
Pixel Size Y: 0.9992912379139669
Band Count: 3
Pixel Type: U8
RasterFunction Infos: {"rasterFunctionInfos": [{
"name": "None",
"description": "",
"help": ""
}]}
Mensuration Capabilities: None
Inspection Capabilities:
Has Histograms: true
Has Colormap: false
Has Multi Dimensions : false
Rendering Rule:
Min Scale: 0
Max Scale: 0
Copyright Text:
Service Data Type: esriImageServiceDataTypeRGB
Min Values: 0, 0, 0
Max Values: 248, 243, 252
Mean Values: 95.25869098256332, 121.16854768311124, 98.85529632547689
Standard Deviation Values: 32.75180591455634, 28.07757761584145, 21.803751024732218
Object ID Field: OBJECTID
Fields:
-
OBJECTID
(
type: esriFieldTypeOID, alias: OBJECTID
)
-
Shape
(
type: esriFieldTypeGeometry, alias: Shape
)
-
Name
(
type: esriFieldTypeString, alias: Name, length: 200
)
-
MinPS
(
type: esriFieldTypeDouble, alias: MinPS
)
-
MaxPS
(
type: esriFieldTypeDouble, alias: MaxPS
)
-
LowPS
(
type: esriFieldTypeDouble, alias: LowPS
)
-
HighPS
(
type: esriFieldTypeDouble, alias: HighPS
)
-
Category
(
type: esriFieldTypeInteger, alias: Category
, Coded Values:
[0: Unknown]
, [1: Primary]
, [2: Overview]
, ...6 more...
)
-
Tag
(
type: esriFieldTypeString, alias: Tag, length: 100
)
-
GroupName
(
type: esriFieldTypeString, alias: GroupName, length: 100
)
-
ProductName
(
type: esriFieldTypeString, alias: ProductName, length: 100
)
-
CenterX
(
type: esriFieldTypeDouble, alias: CenterX
)
-
CenterY
(
type: esriFieldTypeDouble, alias: CenterY
)
-
ZOrder
(
type: esriFieldTypeInteger, alias: ZOrder
)
-
Shape_Length
(
type: esriFieldTypeDouble, alias: Shape_Length
)
-
Shape_Area
(
type: esriFieldTypeDouble, alias: Shape_Area
)
Default Mosaic Method: Northwest
Allowed Mosaic Methods: NorthWest,Center,LockRaster,ByAttribute,Nadir,Viewpoint,Seamline,None
SortField:
SortValue: null
Mosaic Operator: First
Default Compression Quality: 75
Default Resampling Method: Bilinear
Max Record Count: 1000
Max Image Height: 4100
Max Image Width: 15000
Max Download Image Count: 20
Max Mosaic Image Count: 20
Allow Raster Function: true
Allow Copy: true
Allow Analysis: true
Allow Compute TiePoints: false
Supports Statistics: true
Supports Advanced Queries: true
Use StandardizedQueries: true
Raster Type Infos:
Name: Raster Dataset
Description: Supports all ArcGIS Raster Datasets
Help:
Has Raster Attribute Table: false
Edit Fields Info: null
Ownership Based AccessControl For Rasters: null
Child Resources:
Info
Histograms
Statistics
Key Properties
Legend
Raster Function Infos
Supported Operations:
Export Image
Query
Identify
Compute Histograms
Compute Statistics Histograms
Get Samples
Compute Class Statistics
Query GPS Info
Find Images
Image to Map
Map to Image
Measure from Image
Image to Map Multiray
Query Boundary
Compute Pixel Location
Compute Angles
Validate
Project