View In:
ArcGIS JavaScript
ArcGIS Online Map Viewer
ArcGIS Earth
ArcMap
View Footprint In:
ArcGIS Online Map Viewer
Service Description: The data sources for this image service are Bathymetry datasets for Lake Superior and Lake Michigan compiled by the US National Oceanic and Atmospheric Administration (NOAA) under a program managed by the National Centers for Environmental Information (NCEI) with the cooperation of NOAA/Great Lakes Environmental Research Laboratory, NOAA/National Ocean Service, the Canadian Hydrographic Service, other agencies, and academic laboratories. WI DNR staff downloaded the data on 2/12/2018 from the NOAA Great Lakes bathymetry site: https://www.ngdc.noaa.gov/mgg/greatlakes/greatlakes.html .
According to the NOAA FAQ page for Lake Superior Bathymetry (https://www.ngdc.noaa.gov/mgg/global/dem_faq.html#sec-3), Grids extracted using NCEI's Grid Extract tool are referenced to a vertical datum of Mean Sea Level. Elevations of NOAA Great Lakes bathymetric data are in meters. The NOAA compilation of Lake Superior Bathymetry data is considered to be an incomplete, draft version. For more details, refer to the NOAA metadata: https://www.ngdc.noaa.gov/docucomp/page?xml=NOAA/NESDIS/NGDC/MGG/DEM/iso/xml/greatlakes_bathymetry_lake_superior.xml&view=getDataView&header=none NOAA compiled the Lake Michigan Bathymetry data at a scale of 1:250,000, with a contour interval of 5 meters. Density of tracklines is generally about 2000m for the open lake and ranges from 200m to 600m for nearshore areas. For more details, refer to the NOAA metadata: https://www.ngdc.noaa.gov/docucomp/page?xml=NOAA/NESDIS/NGDC/MGG/DEM/iso/xml/264.xml&view=getDataView&header=none WI DNR acknowledges NOAA and NCEI for making source data available. For more information, visit https://dnr.wi.gov/feedback/ and choose Geographic Information Systems Data as the subject.
Name: DW_Image/EN_Lk_Superior_Michigan_Bathymetry
Description: The data sources for this image service are Bathymetry datasets for Lake Superior and Lake Michigan compiled by the US National Oceanic and Atmospheric Administration (NOAA) under a program managed by the National Centers for Environmental Information (NCEI) with the cooperation of NOAA/Great Lakes Environmental Research Laboratory, NOAA/National Ocean Service, the Canadian Hydrographic Service, other agencies, and academic laboratories. WI DNR staff downloaded the data on 2/12/2018 from the NOAA Great Lakes bathymetry site: https://www.ngdc.noaa.gov/mgg/greatlakes/greatlakes.html .
According to the NOAA FAQ page for Lake Superior Bathymetry (https://www.ngdc.noaa.gov/mgg/global/dem_faq.html#sec-3), Grids extracted using NCEI's Grid Extract tool are referenced to a vertical datum of Mean Sea Level. Elevations of NOAA Great Lakes bathymetric data are in meters. The NOAA compilation of Lake Superior Bathymetry data is considered to be an incomplete, draft version. For more details, refer to the NOAA metadata: https://www.ngdc.noaa.gov/docucomp/page?xml=NOAA/NESDIS/NGDC/MGG/DEM/iso/xml/greatlakes_bathymetry_lake_superior.xml&view=getDataView&header=none NOAA compiled the Lake Michigan Bathymetry data at a scale of 1:250,000, with a contour interval of 5 meters. Density of tracklines is generally about 2000m for the open lake and ranges from 200m to 600m for nearshore areas. For more details, refer to the NOAA metadata: https://www.ngdc.noaa.gov/docucomp/page?xml=NOAA/NESDIS/NGDC/MGG/DEM/iso/xml/264.xml&view=getDataView&header=none WI DNR acknowledges NOAA and NCEI for making source data available. For more information, visit https://dnr.wi.gov/feedback/ and choose Geographic Information Systems Data as the subject.
Single Fused Map Cache: false
Extent:
XMin: 349621.68122370733
YMin: 129459.137963693
XMax: 984682.5244788816
YMax: 1020424.6927520235
Spatial Reference: 3071
(3071)
Initial Extent:
XMin: 349621.68122370733
YMin: 129459.137963693
XMax: 984682.5244788816
YMax: 1020424.6927520235
Spatial Reference: 3071
(3071)
Full Extent:
XMin: 349621.68122370733
YMin: 129459.137963693
XMax: 984682.5244788816
YMax: 1020424.6927520235
Spatial Reference: 3071
(3071)
Pixel Size X: 79.00732063388584
Pixel Size Y: 79.00732063388583
Band Count: 1
Pixel Type: F32
RasterFunction Infos: {"rasterFunctionInfos": [{
"name": "None",
"description": "A No-Op Function.",
"help": ""
}]}
Mensuration Capabilities: None
Has Histograms: true
Has Colormap: false
Has Multi Dimensions : false
Rendering Rule:
Min Scale: 0
Max Scale: 0
Copyright Text:
Service Data Type: esriImageServiceDataTypeGeneric
Min Values: -404.9909973144531
Max Values: 513.9180297851562
Mean Values: 56.514425538723216
Standard Deviation Values: 166.98613062957733
Object ID Field: OBJECTID
Fields:
-
OBJECTID
(
type: esriFieldTypeOID, alias: OBJECTID
)
-
Shape
(
type: esriFieldTypeGeometry, alias: Shape
)
-
Name
(
type: esriFieldTypeString, alias: Name, length: 200
)
-
MinPS
(
type: esriFieldTypeDouble, alias: MinPS
)
-
MaxPS
(
type: esriFieldTypeDouble, alias: MaxPS
)
-
LowPS
(
type: esriFieldTypeDouble, alias: LowPS
)
-
HighPS
(
type: esriFieldTypeDouble, alias: HighPS
)
-
Category
(
type: esriFieldTypeInteger, alias: Category
, Coded Values:
[0: Unknown]
, [1: Primary]
, [2: Overview]
, ...6 more...
)
-
Tag
(
type: esriFieldTypeString, alias: Tag, length: 100
)
-
GroupName
(
type: esriFieldTypeString, alias: GroupName, length: 100
)
-
ProductName
(
type: esriFieldTypeString, alias: ProductName, length: 100
)
-
CenterX
(
type: esriFieldTypeDouble, alias: CenterX
)
-
CenterY
(
type: esriFieldTypeDouble, alias: CenterY
)
-
ZOrder
(
type: esriFieldTypeInteger, alias: ZOrder
)
-
Shape_Length
(
type: esriFieldTypeDouble, alias: Shape_Length
)
-
Shape_Area
(
type: esriFieldTypeDouble, alias: Shape_Area
)
Default Mosaic Method: Northwest
Allowed Mosaic Methods: NorthWest,Center,LockRaster,ByAttribute,Nadir,Viewpoint,Seamline,None
SortField:
SortValue: null
Mosaic Operator: First
Default Compression Quality: 75
Default Resampling Method: Bilinear
Max Record Count: 1000
Max Image Height: 4100
Max Image Width: 15000
Max Download Image Count: 20
Max Mosaic Image Count: 20
Allow Raster Function: true
Allow Copy: null
Allow Analysis: null
Allow Compute TiePoints: false
Supports Statistics: true
Supports Advanced Queries: true
Use StandardizedQueries: true
Raster Type Infos:
Name: Raster Dataset
Description: Supports all ArcGIS Raster Datasets
Help:
Has Raster Attribute Table: false
Edit Fields Info: null
Ownership Based AccessControl For Rasters: null
Child Resources:
Info
Histograms
Key Properties
Legend
Raster Function Infos
Supported Operations:
Export Image
Query
Identify
Compute Histograms
Compute Statistics Histograms
Get Samples
Compute Class Statistics
Query Boundary
Compute Pixel Location
Compute Angles
Validate
Project