View In:
ArcGIS JavaScript
ArcGIS Online Map Viewer
ArcGIS Earth
ArcMap
View Footprint In:
ArcGIS Online Map Viewer
Service Description: Image service displaying LiDAR-derived DEMs for all counties in Wisconsin, last updated April 24th, 2023; elevation units are feet. The data sources are county-produced LiDAR with a range of flight years and DEM resolution: Counties with 3-Meter resolution DEMs: Green (2011), Iowa (2010), Jackson (2015), and Waupaca (2005). Counties with 2-meter resolution DEMs: Fond du Lac (2011), Green Lake (2009), & Winnebago (2014). Counties with 1-meter resolution DEMs: Ashland (2014) within the Bad River Reservation, Barron (2019), Bayfield (2015 & 2016), Buffalo (2016), Burnett (2015), Clark (2018), Dane (2017), Dodge (2017), Door (2018), Douglas (2016), Dunn (2019), Forest (2017), Iron (2015) within the Bad River Reservation, Kenosha (2017), La Crosse (2017), Lincoln (2015), Manitowoc (2015), Marquette (2018), Oconto (2019), Oneida (2013), Outagamie (2018), Ozaukee (2015), Polk (2015), Portage (2016), Racine (2017), Shawano (2016), Sheboygan (2019), Taylor (2016), Trempealeau (2014), Vilas (2013), Walworth (2015), Washburn (2016), Washington (2015), Waukesha (2015), Winnebago (2014), & Wood (2015). Counties with 2-foot resolution DEM: Adams (2019), Ashland (2019) outside the Bad River Reservation, Calumet (2018), Chippewa (2020), Columbia (2020), Crawford (2021), Eau Claire (2020), Florence (2019), Grant (2020), Iron (2019) outside the Bad River Reservation, Jefferson (2019), Juneau (2021), Kewaunee (2021), Lafayette (2019), Langlade (2017), Marathon (2021), Marinette (2021), Menominee (2020), Monroe (2019), Pepin (2019), Pierce (2021), Price (2018), Richland (2021), Rock (2020), Rusk (2020), Sauk (2020), Sawyer (2017), St Croix (2021), Vernon (2020), Waushara (2017), also the City of Oshkosh and portions of adjacent Townships (2019). Counties with 1-foot resolution DEM: Brown (2021), Milwaukee (2020). Tobobathy data is included for the Mississippi River (2009-2010) and along the Lake Michigan shoreline (2020). The DEMs have not been hydrologically conditioned. Elevation units are Meters. The Vertical Datum for the DEMs is NAVD88. WI DNR acknowledges the USDA Natural Resources Conservation Service, USGS, FEMA, the Southeastern WI Regional Planning Commission, and the individual counties listed above, for making source data available. For more information, visit https://dnr.wisconsin.gov/feedback and click on Geographic Services Information.
Name: DW_Elevation/EN_DEM_from_LiDAR_Feet
Description: Image service displaying LiDAR-derived DEMs for all counties in Wisconsin, last updated April 24th, 2023; elevation units are feet. The data sources are county-produced LiDAR with a range of flight years and DEM resolution: Counties with 3-Meter resolution DEMs: Green (2011), Iowa (2010), Jackson (2015), and Waupaca (2005). Counties with 2-meter resolution DEMs: Fond du Lac (2011), Green Lake (2009), & Winnebago (2014). Counties with 1-meter resolution DEMs: Ashland (2014) within the Bad River Reservation, Barron (2019), Bayfield (2015 & 2016), Buffalo (2016), Burnett (2015), Clark (2018), Dane (2017), Dodge (2017), Door (2018), Douglas (2016), Dunn (2019), Forest (2017), Iron (2015) within the Bad River Reservation, Kenosha (2017), La Crosse (2017), Lincoln (2015), Manitowoc (2015), Marquette (2018), Oconto (2019), Oneida (2013), Outagamie (2018), Ozaukee (2015), Polk (2015), Portage (2016), Racine (2017), Shawano (2016), Sheboygan (2019), Taylor (2016), Trempealeau (2014), Vilas (2013), Walworth (2015), Washburn (2016), Washington (2015), Waukesha (2015), Winnebago (2014), & Wood (2015). Counties with 2-foot resolution DEM: Adams (2019), Ashland (2019) outside the Bad River Reservation, Calumet (2018), Chippewa (2020), Columbia (2020), Crawford (2021), Eau Claire (2020), Florence (2019), Grant (2020), Iron (2019) outside the Bad River Reservation, Jefferson (2019), Juneau (2021), Kewaunee (2021), Lafayette (2019), Langlade (2017), Marathon (2021), Marinette (2021), Menominee (2020), Monroe (2019), Pepin (2019), Pierce (2021), Price (2018), Richland (2021), Rock (2020), Rusk (2020), Sauk (2020), Sawyer (2017), St Croix (2021), Vernon (2020), Waushara (2017), also the City of Oshkosh and portions of adjacent Townships (2019). Counties with 1-foot resolution DEM: Brown (2021), Milwaukee (2020). Tobobathy data is included for the Mississippi River (2009-2010) and along the Lake Michigan shoreline (2020). The DEMs have not been hydrologically conditioned. Elevation units are Meters. The Vertical Datum for the DEMs is NAVD88. WI DNR acknowledges the USDA Natural Resources Conservation Service, USGS, FEMA, the Southeastern WI Regional Planning Commission, and the individual counties listed above, for making source data available. For more information, visit https://dnr.wisconsin.gov/feedback and click on Geographic Services Information.
Single Fused Map Cache: false
Extent:
XMin: 291897.47979999986
YMin: 198276.50489999907
XMax: 778039.9797999999
YMax: 721481.0048999991
Spatial Reference: 3071
(3071)
Initial Extent:
XMin: 291897.47979999986
YMin: 198276.50489999907
XMax: 778039.9797999999
YMax: 721481.0048999991
Spatial Reference: 3071
(3071)
Full Extent:
XMin: 291897.47979999986
YMin: 198276.50489999907
XMax: 778039.9797999999
YMax: 721481.0048999991
Spatial Reference: 3071
(3071)
Pixel Size X: 0.3
Pixel Size Y: 0.30000000000000004
Band Count: 1
Pixel Type: F64
RasterFunction Infos: {"rasterFunctionInfos": [{
"name": "None",
"description": "",
"help": ""
}]}
Mensuration Capabilities:
Has Histograms: true
Has Colormap: false
Has Multi Dimensions : false
Rendering Rule:
Min Scale: 0
Max Scale: 0
Copyright Text:
Service Data Type: esriImageServiceDataTypeGeneric
Min Values: 496.3152513376872
Max Values: 1912.3952268981934
Mean Values: 1075.8465163917836
Standard Deviation Values: 275.2909347408025
Object ID Field: OBJECTID
Fields:
-
OBJECTID
(
type: esriFieldTypeOID, alias: OBJECTID
)
-
Shape
(
type: esriFieldTypeGeometry, alias: Shape
)
-
Name
(
type: esriFieldTypeString, alias: Name, length: 200
)
-
MinPS
(
type: esriFieldTypeDouble, alias: MinPS
)
-
MaxPS
(
type: esriFieldTypeDouble, alias: MaxPS
)
-
LowPS
(
type: esriFieldTypeDouble, alias: LowPS
)
-
HighPS
(
type: esriFieldTypeDouble, alias: HighPS
)
-
Category
(
type: esriFieldTypeInteger, alias: Category
, Coded Values:
[0: Unknown]
, [1: Primary]
, [2: Overview]
, ...6 more...
)
-
Tag
(
type: esriFieldTypeString, alias: Tag, length: 100
)
-
GroupName
(
type: esriFieldTypeString, alias: GroupName, length: 100
)
-
ProductName
(
type: esriFieldTypeString, alias: ProductName, length: 100
)
-
CenterX
(
type: esriFieldTypeDouble, alias: CenterX
)
-
CenterY
(
type: esriFieldTypeDouble, alias: CenterY
)
-
ZOrder
(
type: esriFieldTypeInteger, alias: ZOrder
)
-
Shape_Length
(
type: esriFieldTypeDouble, alias: Shape_Length
)
-
Shape_Area
(
type: esriFieldTypeDouble, alias: Shape_Area
)
Default Mosaic Method: Northwest
Allowed Mosaic Methods: NorthWest,Center,LockRaster,ByAttribute,Nadir,Viewpoint,Seamline,None
SortField:
SortValue: null
Mosaic Operator: First
Default Compression Quality: 75
Default Resampling Method: Bilinear
Max Record Count: 1000
Max Image Height: 4100
Max Image Width: 15000
Max Download Image Count: 20
Max Mosaic Image Count: 20
Allow Raster Function: true
Allow Copy: true
Allow Analysis: true
Allow Compute TiePoints: false
Supports Statistics: true
Supports Advanced Queries: true
Use StandardizedQueries: true
Raster Type Infos:
Name: Raster Dataset
Description: Supports all ArcGIS Raster Datasets
Help:
Has Raster Attribute Table: false
Edit Fields Info: null
Ownership Based AccessControl For Rasters: null
Child Resources:
Info
Histograms
Statistics
Key Properties
Legend
Raster Function Infos
Supported Operations:
Export Image
Query
Identify
Measure
Compute Histograms
Compute Statistics Histograms
Get Samples
Compute Class Statistics
Query Boundary
Compute Pixel Location
Compute Angles
Validate
Project